BEGIN:VCALENDAR
VERSION:2.0
PRODID:-//Level39 - ECPv6.15.17.1//NONSGML v1.0//EN
CALSCALE:GREGORIAN
METHOD:PUBLISH
X-WR-CALNAME:Level39
X-ORIGINAL-URL:https://level39.co
X-WR-CALDESC:Events for Level39
REFRESH-INTERVAL;VALUE=DURATION:PT1H
X-Robots-Tag:noindex
X-PUBLISHED-TTL:PT1H
BEGIN:VTIMEZONE
TZID:Europe/London
BEGIN:DAYLIGHT
TZOFFSETFROM:+0000
TZOFFSETTO:+0100
TZNAME:BST
DTSTART:20250330T010000
END:DAYLIGHT
BEGIN:STANDARD
TZOFFSETFROM:+0100
TZOFFSETTO:+0000
TZNAME:GMT
DTSTART:20251026T010000
END:STANDARD
BEGIN:DAYLIGHT
TZOFFSETFROM:+0000
TZOFFSETTO:+0100
TZNAME:BST
DTSTART:20260329T010000
END:DAYLIGHT
BEGIN:STANDARD
TZOFFSETFROM:+0100
TZOFFSETTO:+0000
TZNAME:GMT
DTSTART:20261025T010000
END:STANDARD
BEGIN:DAYLIGHT
TZOFFSETFROM:+0000
TZOFFSETTO:+0100
TZNAME:BST
DTSTART:20270328T010000
END:DAYLIGHT
BEGIN:STANDARD
TZOFFSETFROM:+0100
TZOFFSETTO:+0000
TZNAME:GMT
DTSTART:20271031T010000
END:STANDARD
END:VTIMEZONE
BEGIN:VEVENT
DTSTART;TZID=Europe/London:20260122T140000
DTEND;TZID=Europe/London:20260122T160000
DTSTAMP:20260424T203308
CREATED:20260115T104857Z
LAST-MODIFIED:20260305T154050Z
UID:21507-1769090400-1769097600@level39.co
SUMMARY:MentorHours39 with Ibrahim El-Tawil
DESCRIPTION:About Ibrahim: \n​Ibrahim El-Tawil is a strategy and growth leader with 15+ years of experience helping payments and fintech businesses scale across Europe\, CEMEA\, and global markets. \n​As Senior Director of Corporate Strategy at Visa\, he has delivered over $3B in new revenues by driving market turnarounds\, launching value-added services and money-movement businesses\, and building partnerships with leading banks\, wallets\, and fintechs. His work has spanned 30+ markets and major initiatives\, from reshaping country strategies to building new verticals and product lines. \n​Ibrahim combines corporate strategy expertise with hands-on commercial execution. He has worked directly with founders\, product teams\, and executives to design go-to-market plans\, monetize products\, and unlock growth in areas such as embedded finance\, digital wallets\, open banking\, and AI-driven payments. \n​He is passionate about supporting scaleups on growth\, market expansion\, and strategic partnerships\, helping leaders turn ambition into sustainable\, double-digit revenue growth. \n​ \n​About Mentor Hours: \n​MentorHours are exclusively for Level39 members. These form part of the weekly curriculum offered to our 180 technology businesses who call Level39 home. For more information\, email the team on members@level39.co
URL:https://level39.co/event/mentorhours39-with-ibrahim-el-tawil/
LOCATION:Level39
CATEGORIES:Members Only
ATTACH;FMTTYPE=image/png:https://level39.co/wp-content/uploads/2026/01/Events39_MASTER-TEMPLATE-2026-01-15T104510.229.png
END:VEVENT
END:VCALENDAR