BEGIN:VCALENDAR
VERSION:2.0
PRODID:-//Level39 - ECPv6.15.17.1//NONSGML v1.0//EN
CALSCALE:GREGORIAN
METHOD:PUBLISH
X-WR-CALNAME:Level39
X-ORIGINAL-URL:https://level39.co
X-WR-CALDESC:Events for Level39
REFRESH-INTERVAL;VALUE=DURATION:PT1H
X-Robots-Tag:noindex
X-PUBLISHED-TTL:PT1H
BEGIN:VTIMEZONE
TZID:Europe/London
BEGIN:DAYLIGHT
TZOFFSETFROM:+0000
TZOFFSETTO:+0100
TZNAME:BST
DTSTART:20250330T010000
END:DAYLIGHT
BEGIN:STANDARD
TZOFFSETFROM:+0100
TZOFFSETTO:+0000
TZNAME:GMT
DTSTART:20251026T010000
END:STANDARD
BEGIN:DAYLIGHT
TZOFFSETFROM:+0000
TZOFFSETTO:+0100
TZNAME:BST
DTSTART:20260329T010000
END:DAYLIGHT
BEGIN:STANDARD
TZOFFSETFROM:+0100
TZOFFSETTO:+0000
TZNAME:GMT
DTSTART:20261025T010000
END:STANDARD
BEGIN:DAYLIGHT
TZOFFSETFROM:+0000
TZOFFSETTO:+0100
TZNAME:BST
DTSTART:20270328T010000
END:DAYLIGHT
BEGIN:STANDARD
TZOFFSETFROM:+0100
TZOFFSETTO:+0000
TZNAME:GMT
DTSTART:20271031T010000
END:STANDARD
END:VTIMEZONE
BEGIN:VEVENT
DTSTART;TZID=Europe/London:20260210T140000
DTEND;TZID=Europe/London:20260210T160000
DTSTAMP:20260424T201451
CREATED:20260115T105912Z
LAST-MODIFIED:20260305T150644Z
UID:21514-1770732000-1770739200@level39.co
SUMMARY:MentorHours39 with Leakhena An
DESCRIPTION:About Leakhena: \nLeakhena An is a risk and audit professional with over 15 years of experience supporting global financial institutions and Big 4 consulting firms\, including EY\, Citi\, HSBC\, and Accenture. She has worked extensively with senior stakeholders on internal audit delivery\, risk and control assessments\, issue validation\, quality assurance\, IT SOX testing\, business analysis\, and compliance reviews. This breadth of experience has enabled her to develop sound expertise across both the business and IT sides of controls. \nSome examples of her work include (non-exhaustive): \n· Assessing the design of business controls and IT SOX controls\, evaluating their operating effectiveness\, and identifying any deficiencies to ensure risks are properly mitigated. \n· Reviewing regulatory requirements (e.g.\, AML/CFT) and mapping them to company controls to identify gaps\, providing recommendations to strengthen controls and meet regulatory expectations. \n· Validating business actions taken to remediate deficiencies in risk management\, compliance\, and internal controls in response to regulatory enforcement actions and orders. \nShe has worked internationally across London\, Hong Kong\, Shanghai\, Luxembourg\, and Paris\, and has also lived in Taiwan\, Cambodia\, and Thailand — experiences that have helped her adapt quickly to new environments and diverse organisational cultures. \nLeakhena helps companies strengthen their control environments to align with the high standards of robustness required in the banking sector\, meet regulatory expectations related to risks and controls\, and prepare effectively for audits and bank due-diligence processes. She brings a pragmatic approach to mentoring\, supporting founders and leadership teams as they build the controls needed to scale responsibly. \nIn addition\, she served as the volunteer lead of the UK EY French Business Network (FBN)\, coordinating events for French-speaking employees alongside her full-time role during her tenure at EY. \nIn her spare time\, she enjoys playing competitive golf and training in boxing. \n  \n\nAbout Mentor Hours: \nMentorHours are exclusively for Level39 members. These form part of the weekly curriculum offered to our 180 technology businesses who call Level39 home. For more information and link to register for this session\, please see the latest member newsletter\, or email the team on members@level39.co \n\n  \nAbout Level39: \nLevel39 is a melting pot of innovators\, investors\, industry experts and ambitious entrepreneurs\, pioneering change across the sectors that\ndictate our experiences in daily life – FinTech\, Cyber Security\, Data & AI\, GreenTech\, Life Sciences and more. \nOur flexible co-working\, private office space and ecosystem activities provide members with access to the environment and growth opportunities they need to develop into world-leading businesses\, that have a major financial and social impact.
URL:https://level39.co/event/mentorhours39-with-leakhena-an/
LOCATION:Level39
CATEGORIES:Members Only
ATTACH;FMTTYPE=image/png:https://level39.co/wp-content/uploads/2026/01/Events39_MASTER-TEMPLATE-2026-01-15T105539.352.png
END:VEVENT
END:VCALENDAR