BEGIN:VCALENDAR
VERSION:2.0
PRODID:-//Level39 - ECPv6.15.17.1//NONSGML v1.0//EN
CALSCALE:GREGORIAN
METHOD:PUBLISH
X-WR-CALNAME:Level39
X-ORIGINAL-URL:https://level39.co
X-WR-CALDESC:Events for Level39
REFRESH-INTERVAL;VALUE=DURATION:PT1H
X-Robots-Tag:noindex
X-PUBLISHED-TTL:PT1H
BEGIN:VTIMEZONE
TZID:Europe/London
BEGIN:DAYLIGHT
TZOFFSETFROM:+0000
TZOFFSETTO:+0100
TZNAME:BST
DTSTART:20250330T010000
END:DAYLIGHT
BEGIN:STANDARD
TZOFFSETFROM:+0100
TZOFFSETTO:+0000
TZNAME:GMT
DTSTART:20251026T010000
END:STANDARD
BEGIN:DAYLIGHT
TZOFFSETFROM:+0000
TZOFFSETTO:+0100
TZNAME:BST
DTSTART:20260329T010000
END:DAYLIGHT
BEGIN:STANDARD
TZOFFSETFROM:+0100
TZOFFSETTO:+0000
TZNAME:GMT
DTSTART:20261025T010000
END:STANDARD
BEGIN:DAYLIGHT
TZOFFSETFROM:+0000
TZOFFSETTO:+0100
TZNAME:BST
DTSTART:20270328T010000
END:DAYLIGHT
BEGIN:STANDARD
TZOFFSETFROM:+0100
TZOFFSETTO:+0000
TZNAME:GMT
DTSTART:20271031T010000
END:STANDARD
END:VTIMEZONE
BEGIN:VEVENT
DTSTART;TZID=Europe/London:20260129T140000
DTEND;TZID=Europe/London:20260129T160000
DTSTAMP:20260424T203049
CREATED:20251121T091659Z
LAST-MODIFIED:20260305T150847Z
UID:21451-1769695200-1769702400@level39.co
SUMMARY:MentorHours39 with Monia Ben Nejima
DESCRIPTION:About Monia: \nI’m Monia\, a fintech/SaaS strategist and mentor who loves working with founders to turn bold ideas into scalable businesses. \nOver the past decade I’ve helped teams build cross-border solutions\, navigate tricky regulations like FCA handbook and applications\, raise funding\, and refine their go-to-market strategies. My career has taken me from working with big institutions like the European Commission and the London Stock Exchange to supporting high-growth startups and even engaging with regulators\, which means I understand how to bridge innovation with compliance at a speed and with stability. \n\nThrough my international GTM consultancy I support more founders scaling to and from London. In practical terms\, this means helping startups: \n– Validate and prepare for new market entry in as little as 8 weeks \n– Align offers and messaging for international audiences \n– Build scalable sales and marketing systems to support cross-border growthAt Level39\, my goal is simple: to help fintech founders gain clarity faster\, avoid common pitfalls\, and set up their companies for sustainable expansion. Whether it’s pressure-testing your business model\, getting investor-ready\, or making those first big international moves\, I’m here as a sounding board and sparring partner. \nWhen founders grow\, the whole ecosystem shines brighter. \n\n\n\n\n\nAbout Mentor Hours: \nMentorHours are exclusively for Level39 members. These form part of the weekly curriculum offered to our 180 technology businesses who call Level39 home. For more information and link to register for this session\, please see the latest member newsletter\, or email the team on members@level39.co \n\n  \nAbout Level39: \nLevel39 is a melting pot of innovators\, investors\, industry experts and ambitious entrepreneurs\, pioneering change across the sectors that\ndictate our experiences in daily life – FinTech\, Cyber Security\, Data & AI\, GreenTech\, Life Sciences and more. \nOur flexible co-working\, private office space and ecosystem activities provide members with access to the environment and growth opportunities they need to develop into world-leading businesses\, that have a major financial and social impact.
URL:https://level39.co/event/mentorhours39-with-monia-ben-nejima/
LOCATION:Level39
CATEGORIES:Members Only
ATTACH;FMTTYPE=image/png:https://level39.co/wp-content/uploads/2025/11/Events39_MASTER-TEMPLATE-2025-11-21T091547.437.png
END:VEVENT
END:VCALENDAR