BEGIN:VCALENDAR
VERSION:2.0
PRODID:-//Level39 - ECPv6.15.17.1//NONSGML v1.0//EN
CALSCALE:GREGORIAN
METHOD:PUBLISH
X-WR-CALNAME:Level39
X-ORIGINAL-URL:https://level39.co
X-WR-CALDESC:Events for Level39
REFRESH-INTERVAL;VALUE=DURATION:PT1H
X-Robots-Tag:noindex
X-PUBLISHED-TTL:PT1H
BEGIN:VTIMEZONE
TZID:Europe/London
BEGIN:DAYLIGHT
TZOFFSETFROM:+0000
TZOFFSETTO:+0100
TZNAME:BST
DTSTART:20240331T010000
END:DAYLIGHT
BEGIN:STANDARD
TZOFFSETFROM:+0100
TZOFFSETTO:+0000
TZNAME:GMT
DTSTART:20241027T010000
END:STANDARD
BEGIN:DAYLIGHT
TZOFFSETFROM:+0000
TZOFFSETTO:+0100
TZNAME:BST
DTSTART:20250330T010000
END:DAYLIGHT
BEGIN:STANDARD
TZOFFSETFROM:+0100
TZOFFSETTO:+0000
TZNAME:GMT
DTSTART:20251026T010000
END:STANDARD
BEGIN:DAYLIGHT
TZOFFSETFROM:+0000
TZOFFSETTO:+0100
TZNAME:BST
DTSTART:20260329T010000
END:DAYLIGHT
BEGIN:STANDARD
TZOFFSETFROM:+0100
TZOFFSETTO:+0000
TZNAME:GMT
DTSTART:20261025T010000
END:STANDARD
END:VTIMEZONE
BEGIN:VEVENT
DTSTART;TZID=Europe/London:20251125T140000
DTEND;TZID=Europe/London:20251125T160000
DTSTAMP:20260424T202909
CREATED:20251111T120938Z
LAST-MODIFIED:20251118T164132Z
UID:21419-1764079200-1764086400@level39.co
SUMMARY:MentorHours39 with the Leyton Team
DESCRIPTION:About Leyton: \nLeyton is an international consultancy specialising in innovation funding and business performance improvement. Established over 27 years ago\, we help organisations across the UK identify and secure financial incentives that allow them to innovate\, grow\, and stay competitive. \nOur mission is to empower businesses to achieve more with their existing resources by uncovering opportunities within areas such as: \n\nR&D Tax Credits\nPatent Box\nEnergy Exemptions\nCapital Allowances\nBusiness Rates\n\nBy combining technical expertise\, financial insight\, and industry‑specific knowledge\, Leyton’s consultants work closely with clients to ensure they receive the maximum benefit while staying fully compliant with HMRC and regulatory requirements. Ultimately\, our goal is to make innovation pay off — enabling UK companies to reinvest in their people\, new projects\, and future growth. \n  \nMeet the Mentors: \nSam Coleman\nSenior Sales Manager\, Leyton\nWith over five years of experience at Leyton\, Sam specialises in R&D Tax Credits\, helping companies optimise their innovation funding while maintaining full compliance with HMRC. His deep understanding of the R&D landscape enables him to guide businesses through identifying and accessing valuable incentives that support growth. Sam has extensive knowledge within the software startup and scaleup area. \nCharlie Briers\nBusiness Development Executive\, Leyton\nCharlie has been with Leyton for over a year\, focusing on R&D Tax Credits and supporting a wide range of businesses across industries such as Software\, Fintech\, Engineering\, Biotech and Construction. He holds a BSc in Economics and Finance from Loughborough University and brings a blend of analytical skill and commercial insight to help clients maximise their innovation potential. \n  \nAbout the Session \nA session with Leyton offers a unique opportunity to explore how your business can effectively leverage several different tax exemptions. Whether you’re aiming to streamline your R&D Tax Credit process or strengthen your compliance approach\, this discussion will help ensure your procedures align with HMRC’s evolving guidelines and provide clarity on the available innovation funding schemes in the UK. \n  \n\n  \nAbout MentorHours: \n\nMentorHours are exclusively for Level39 members. These form part of the weekly curriculum offered to our 180 technology businesses who call Level39 home. For more information and link to register for this session\, please see the latest member newsletter\, or email the team on members@level39.co \n\n  \nAbout Level39: \nLevel39 is a melting pot of innovators\, investors\, industry experts and ambitious entrepreneurs\, pioneering change across the sectors that\ndictate our experiences in daily life – FinTech\, Cyber Security\, Data & AI\, GreenTech\, Life Sciences and more. \nOur flexible co-working\, private office space and ecosystem activities provide members with access to the environment and growth opportunities they need to develop into world-leading businesses\, that have a major financial and social impact.
URL:https://level39.co/event/mentorhours39-with-the-leyton-team/
LOCATION:Level39
CATEGORIES:Members Only
ATTACH;FMTTYPE=image/png:https://level39.co/wp-content/uploads/2025/11/Events39_MASTER-TEMPLATE-2025-11-11T121125.109.png
END:VEVENT
END:VCALENDAR